BEGIN:VCALENDAR
VERSION:2.0
PRODID:-//Halton Naval Veterans - ECPv6.15.11//NONSGML v1.0//EN
CALSCALE:GREGORIAN
METHOD:PUBLISH
X-WR-CALNAME:Halton Naval Veterans
X-ORIGINAL-URL:https://haltonnavalveteransassociation.ca
X-WR-CALDESC:Events for Halton Naval Veterans
REFRESH-INTERVAL;VALUE=DURATION:PT1H
X-Robots-Tag:noindex
X-PUBLISHED-TTL:PT1H
BEGIN:VTIMEZONE
TZID:UTC
BEGIN:STANDARD
TZOFFSETFROM:+0000
TZOFFSETTO:+0000
TZNAME:UTC
DTSTART:20250101T000000
END:STANDARD
END:VTIMEZONE
BEGIN:VEVENT
DTSTART;TZID=UTC:20260420T100000
DTEND;TZID=UTC:20260420T113000
DTSTAMP:20260419T190511
CREATED:20260403T155959Z
LAST-MODIFIED:20260403T155959Z
UID:4023-1776679200-1776684600@haltonnavalveteransassociation.ca
SUMMARY:Seniors Pool 10 to 1130 am
DESCRIPTION:
URL:https://haltonnavalveteransassociation.ca/current-event/seniors-pool-10-to-1130-am-12/
END:VEVENT
BEGIN:VEVENT
DTSTART;TZID=UTC:20260420T183000
DTEND;TZID=UTC:20260420T220000
DTSTAMP:20260419T190511
CREATED:20260403T155829Z
LAST-MODIFIED:20260403T155829Z
UID:4021-1776709800-1776722400@haltonnavalveteransassociation.ca
SUMMARY:Euchre 630 to 10 pm
DESCRIPTION:
URL:https://haltonnavalveteransassociation.ca/current-event/euchre-630-to-10-pm-49/
END:VEVENT
BEGIN:VEVENT
DTSTART;TZID=UTC:20260422T113000
DTEND;TZID=UTC:20260422T140000
DTSTAMP:20260419T190511
CREATED:20260403T160155Z
LAST-MODIFIED:20260403T160155Z
UID:4025-1776857400-1776866400@haltonnavalveteransassociation.ca
SUMMARY:Burl-Oak Naval Veterans Luncheon 1130 am to 2 pm
DESCRIPTION:
URL:https://haltonnavalveteransassociation.ca/current-event/burl-oak-naval-veterans-luncheon-1130-am-to-2-pm-18/
END:VEVENT
BEGIN:VEVENT
DTSTART;TZID=UTC:20260425T140000
DTEND;TZID=UTC:20260425T170000
DTSTAMP:20260419T190511
CREATED:20260403T160355Z
LAST-MODIFIED:20260403T160355Z
UID:4027-1777125600-1777136400@haltonnavalveteransassociation.ca
SUMMARY:Charity Roll 2 to 5 pm
DESCRIPTION:
URL:https://haltonnavalveteransassociation.ca/current-event/charity-roll-2-to-5-pm-68/
END:VEVENT
BEGIN:VEVENT
DTSTART;TZID=UTC:20260427T183000
DTEND;TZID=UTC:20260427T220000
DTSTAMP:20260419T190511
CREATED:20260403T160549Z
LAST-MODIFIED:20260403T160549Z
UID:4029-1777314600-1777327200@haltonnavalveteransassociation.ca
SUMMARY:Euchre 630 to 10 pm
DESCRIPTION:
URL:https://haltonnavalveteransassociation.ca/current-event/euchre-630-to-10-pm-50/
END:VEVENT
BEGIN:VEVENT
DTSTART;TZID=UTC:20260428T100000
DTEND;TZID=UTC:20260428T113000
DTSTAMP:20260419T190511
CREATED:20260403T160719Z
LAST-MODIFIED:20260403T160719Z
UID:4031-1777370400-1777375800@haltonnavalveteransassociation.ca
SUMMARY:Seniors pool 10 to 1130 am
DESCRIPTION:
URL:https://haltonnavalveteransassociation.ca/current-event/seniors-pool-10-to-1130-am-13/
END:VEVENT
BEGIN:VEVENT
DTSTART;TZID=UTC:20260429T113000
DTEND;TZID=UTC:20260429T133000
DTSTAMP:20260419T190511
CREATED:20260403T160943Z
LAST-MODIFIED:20260403T160943Z
UID:4033-1777462200-1777469400@haltonnavalveteransassociation.ca
SUMMARY:Burl-Oak Naval Veterans Luncheon 1130 am to 2 pm
DESCRIPTION:
URL:https://haltonnavalveteransassociation.ca/current-event/burl-oak-naval-veterans-luncheon-1130-am-to-2-pm-19/
END:VEVENT
END:VCALENDAR